BEGIN:VCALENDAR
VERSION:2.0
PRODID:-//Tennisclub Seeschneid e.V. - Grafing - ECPv6.15.20//NONSGML v1.0//EN
CALSCALE:GREGORIAN
METHOD:PUBLISH
X-ORIGINAL-URL:https://tc-seeschneid.de
X-WR-CALDESC:Veranstaltungen für Tennisclub Seeschneid e.V. - Grafing
REFRESH-INTERVAL;VALUE=DURATION:PT1H
X-Robots-Tag:noindex
X-PUBLISHED-TTL:PT1H
BEGIN:VTIMEZONE
TZID:Europe/Berlin
BEGIN:DAYLIGHT
TZOFFSETFROM:+0100
TZOFFSETTO:+0200
TZNAME:CEST
DTSTART:20230326T010000
END:DAYLIGHT
BEGIN:STANDARD
TZOFFSETFROM:+0200
TZOFFSETTO:+0100
TZNAME:CET
DTSTART:20231029T010000
END:STANDARD
BEGIN:DAYLIGHT
TZOFFSETFROM:+0100
TZOFFSETTO:+0200
TZNAME:CEST
DTSTART:20240331T010000
END:DAYLIGHT
BEGIN:STANDARD
TZOFFSETFROM:+0200
TZOFFSETTO:+0100
TZNAME:CET
DTSTART:20241027T010000
END:STANDARD
BEGIN:DAYLIGHT
TZOFFSETFROM:+0100
TZOFFSETTO:+0200
TZNAME:CEST
DTSTART:20250330T010000
END:DAYLIGHT
BEGIN:STANDARD
TZOFFSETFROM:+0200
TZOFFSETTO:+0100
TZNAME:CET
DTSTART:20251026T010000
END:STANDARD
END:VTIMEZONE
BEGIN:VEVENT
DTSTART;TZID=Europe/Berlin:20240701T100000
DTEND;TZID=Europe/Berlin:20240701T100000
DTSTAMP:20260424T200440
CREATED:20240403T100713Z
LAST-MODIFIED:20240403T101520Z
UID:350882-1719828000-1719828000@tc-seeschneid.de
SUMMARY:Heimspiel: HERREN 70: TC Seeschneid - STK Garching
DESCRIPTION:
URL:https://tc-seeschneid.de/event/heimspiel-herren-70-tc-seeschneid-stk-garching-3
END:VEVENT
BEGIN:VEVENT
DTSTART;TZID=Europe/Berlin:20240703T100000
DTEND;TZID=Europe/Berlin:20240703T100000
DTSTAMP:20260424T200440
CREATED:20240403T100658Z
LAST-MODIFIED:20240403T101502Z
UID:350876-1720000800-1720000800@tc-seeschneid.de
SUMMARY:Heimspiel: HERREN 65: TC Seeschneid - TSV Hofolding
DESCRIPTION:
URL:https://tc-seeschneid.de/event/heimspiel-herren-65-tc-seeschneid-tsv-hofolding-3
END:VEVENT
BEGIN:VEVENT
DTSTART;TZID=Europe/Berlin:20240706T140000
DTEND;TZID=Europe/Berlin:20240706T140000
DTSTAMP:20260424T200440
CREATED:20240403T100557Z
LAST-MODIFIED:20240403T101401Z
UID:350856-1720274400-1720274400@tc-seeschneid.de
SUMMARY:Auswärts: HERREN 60: SVN München II - TC Seeschneid
DESCRIPTION:
URL:https://tc-seeschneid.de/event/auswaerts-herren-60-svn-muenchen-ii-tc-seeschneid-3
END:VEVENT
BEGIN:VEVENT
DTSTART;TZID=Europe/Berlin:20240706T140000
DTEND;TZID=Europe/Berlin:20240706T140000
DTSTAMP:20260424T200440
CREATED:20240403T100628Z
LAST-MODIFIED:20240403T101431Z
UID:350870-1720274400-1720274400@tc-seeschneid.de
SUMMARY:Auswärts: HERREN 50: SV Nußdorf/Inn - TC Seeschneid
DESCRIPTION:
URL:https://tc-seeschneid.de/event/auswaerts-herren-50-sv-nussdorf-inn-tc-seeschneid-3
END:VEVENT
BEGIN:VEVENT
DTSTART;TZID=Europe/Berlin:20240707T100000
DTEND;TZID=Europe/Berlin:20240707T100000
DTSTAMP:20260424T200440
CREATED:20240403T100613Z
LAST-MODIFIED:20240403T101416Z
UID:350864-1720346400-1720346400@tc-seeschneid.de
SUMMARY:Heimspiel: HERREN: TC Seeschneid - TSV St.Wolfgang
DESCRIPTION:
URL:https://tc-seeschneid.de/event/heimspiel-herren-tc-seeschneid-tsv-st-wolfgang-3
END:VEVENT
BEGIN:VEVENT
DTSTART;TZID=Europe/Berlin:20240713T130000
DTEND;TZID=Europe/Berlin:20240713T130000
DTSTAMP:20260424T200440
CREATED:20240403T100557Z
LAST-MODIFIED:20240403T101401Z
UID:350857-1720875600-1720875600@tc-seeschneid.de
SUMMARY:Heimspiel: HERREN 60: TC Seeschneid - TSV Unterhaching
DESCRIPTION:
URL:https://tc-seeschneid.de/event/heimspiel-herren-60-tc-seeschneid-tsv-unterhaching-3
END:VEVENT
END:VCALENDAR