BEGIN:VCALENDAR
VERSION:2.0
PRODID:-//Tennisclub Seeschneid e.V. - Grafing - ECPv6.15.20//NONSGML v1.0//EN
CALSCALE:GREGORIAN
METHOD:PUBLISH
X-WR-CALNAME:Tennisclub Seeschneid e.V. - Grafing
X-ORIGINAL-URL:https://tc-seeschneid.de
X-WR-CALDESC:Veranstaltungen für Tennisclub Seeschneid e.V. - Grafing
REFRESH-INTERVAL;VALUE=DURATION:PT1H
X-Robots-Tag:noindex
X-PUBLISHED-TTL:PT1H
BEGIN:VTIMEZONE
TZID:Europe/Berlin
BEGIN:DAYLIGHT
TZOFFSETFROM:+0100
TZOFFSETTO:+0200
TZNAME:CEST
DTSTART:20250330T010000
END:DAYLIGHT
BEGIN:STANDARD
TZOFFSETFROM:+0200
TZOFFSETTO:+0100
TZNAME:CET
DTSTART:20251026T010000
END:STANDARD
BEGIN:DAYLIGHT
TZOFFSETFROM:+0100
TZOFFSETTO:+0200
TZNAME:CEST
DTSTART:20260329T010000
END:DAYLIGHT
BEGIN:STANDARD
TZOFFSETFROM:+0200
TZOFFSETTO:+0100
TZNAME:CET
DTSTART:20261025T010000
END:STANDARD
BEGIN:DAYLIGHT
TZOFFSETFROM:+0100
TZOFFSETTO:+0200
TZNAME:CEST
DTSTART:20270328T010000
END:DAYLIGHT
BEGIN:STANDARD
TZOFFSETFROM:+0200
TZOFFSETTO:+0100
TZNAME:CET
DTSTART:20271031T010000
END:STANDARD
END:VTIMEZONE
BEGIN:VEVENT
DTSTART;TZID=Europe/Berlin:20260117T180000
DTEND;TZID=Europe/Berlin:20260117T180000
DTSTAMP:20260420T115130
CREATED:20251125T195918Z
LAST-MODIFIED:20251125T203041Z
UID:351985-1768672800-1768672800@tc-seeschneid.de
SUMMARY:Neujahrsturnier 2026
DESCRIPTION:Unser Sportwart Uli Kaiser lädt für den 17.01.2026 ab 18:00 in die Tennishalle Seeschneid zum Neujahrsturnier 2026 ein. \nWir bitten um Anmeldung bis zum 15.12.2025. Also\, auf geht’s! \nAnmeldungen bitte via E-Mail an kaiseru@web.de oder WhatsApp.
URL:https://tc-seeschneid.de/event/neujahrsturnier
LOCATION:Tennishalle(Tennispark Seeschneid)\, Seeschneid 2\, Grafing\, 85567\, Deutschland
END:VEVENT
END:VCALENDAR